Package: GDCRNATools Version: 1.28.0 Command: chmod a+r GDCRNATools -R && E:\biocbuild\bbs-3.21-bioc\R\bin\R.exe CMD build --keep-empty-dirs --no-resave-data GDCRNATools StartedAt: 2025-08-14 19:15:21 -0400 (Thu, 14 Aug 2025) EndedAt: 2025-08-14 19:16:41 -0400 (Thu, 14 Aug 2025) EllapsedTime: 79.9 seconds RetCode: 0 Status: OK PackageFile: GDCRNATools_1.28.0.tar.gz PackageFileSize: 5.313 MiB