Package: GDCRNATools Version: 1.28.0 Command: /home/biocbuild/R/R/bin/R CMD INSTALL GDCRNATools StartedAt: 2025-05-12 21:10:53 -0000 (Mon, 12 May 2025) EndedAt: 2025-05-12 21:12:10 -0000 (Mon, 12 May 2025) EllapsedTime: 77.1 seconds RetCode: 0 Status: OK