Package: GDCRNATools Version: 1.28.0 Maintainer: Ruidong Li MaintainerEmail: rli012 at ucr.edu git_url: https://git.bioconductor.org/packages/GDCRNATools git_branch: RELEASE_3_21 git_last_commit: dd67354 git_last_commit_date: 2025-04-15 11:17:24 -0400 (Tue, 15 Apr 2025)