Package: GBScleanR Version: 2.0.3 Command: /home/biocbuild/R/R/bin/R CMD INSTALL GBScleanR StartedAt: 2025-01-30 20:15:23 -0000 (Thu, 30 Jan 2025) EndedAt: 2025-01-30 20:16:34 -0000 (Thu, 30 Jan 2025) EllapsedTime: 71.1 seconds RetCode: 0 Status: OK