Package: GAprediction Version: 1.35.0 Command: rm -rf GAprediction.buildbin-libdir && mkdir GAprediction.buildbin-libdir && F:\biocbuild\bbs-3.22-bioc\R\bin\R.exe CMD INSTALL --build --library=GAprediction.buildbin-libdir GAprediction_1.35.0.tar.gz StartedAt: 2025-08-15 10:18:27 -0400 (Fri, 15 Aug 2025) EndedAt: 2025-08-15 10:18:42 -0400 (Fri, 15 Aug 2025) EllapsedTime: 14.3 seconds RetCode: 0 Status: OK PackageFile: GAprediction_1.35.0.zip PackageFileSize: 890.2 KiB