Package: GAprediction Version: 1.34.0 Command: /Library/Frameworks/R.framework/Resources/bin/R CMD check --install=check:GAprediction.install-out.txt --library=/Library/Frameworks/R.framework/Resources/library --no-vignettes --timings GAprediction_1.34.0.tar.gz StartedAt: 2025-04-21 20:48:39 -0400 (Mon, 21 Apr 2025) EndedAt: 2025-04-21 20:50:02 -0400 (Mon, 21 Apr 2025) EllapsedTime: 82.7 seconds RetCode: 0 Status: OK CheckDir: GAprediction.Rcheck Warnings: 0