Package: GAprediction Version: 1.34.0 Command: rm -rf GAprediction.buildbin-libdir && mkdir GAprediction.buildbin-libdir && /Users/biocbuild/BBS/utils/build-universal.sh GAprediction_1.34.0.tar.gz /Library/Frameworks/R.framework/Resources/bin/R GAprediction.buildbin-libdir StartedAt: 2025-04-22 00:46:15 -0400 (Tue, 22 Apr 2025) EndedAt: 2025-04-22 00:46:32 -0400 (Tue, 22 Apr 2025) EllapsedTime: 16.4 seconds RetCode: 0 Status: OK PackageFile: GAprediction_1.34.0.tgz PackageFileSize: 878.2 KiB