Package: GARS Version: 1.28.0 Command: /Library/Frameworks/R.framework/Resources/bin/R CMD INSTALL GARS StartedAt: 2025-04-21 15:42:50 -0400 (Mon, 21 Apr 2025) EndedAt: 2025-04-21 15:44:07 -0400 (Mon, 21 Apr 2025) EllapsedTime: 76.1 seconds RetCode: 0 Status: OK