Package: GARS Version: 1.28.0 Command: rm -rf GARS.buildbin-libdir && mkdir GARS.buildbin-libdir && /Users/biocbuild/BBS/utils/build-universal.sh GARS_1.28.0.tar.gz /Library/Frameworks/R.framework/Resources/bin/R GARS.buildbin-libdir StartedAt: 2025-04-22 00:46:17 -0400 (Tue, 22 Apr 2025) EndedAt: 2025-04-22 00:47:35 -0400 (Tue, 22 Apr 2025) EllapsedTime: 78.8 seconds RetCode: 0 Status: OK PackageFile: GARS_1.28.0.tgz PackageFileSize: 499.9 KiB