Package: GARS Version: 1.28.0 Maintainer: Mattia Chiesa MaintainerEmail: mattia.chiesa at hotmail.it git_url: https://git.bioconductor.org/packages/GARS git_branch: RELEASE_3_21 git_last_commit: 929d370 git_last_commit_date: 2025-04-15 11:18:28 -0400 (Tue, 15 Apr 2025)