Package: GA4GHshiny Version: 1.30.0 Command: chmod a+r GA4GHshiny -R && E:\biocbuild\bbs-3.21-bioc\R\bin\R.exe CMD build --keep-empty-dirs --no-resave-data GA4GHshiny StartedAt: 2025-08-14 19:13:39 -0400 (Thu, 14 Aug 2025) EndedAt: 2025-08-14 19:14:35 -0400 (Thu, 14 Aug 2025) EllapsedTime: 56.3 seconds RetCode: 0 Status: OK PackageFile: GA4GHshiny_1.30.0.tar.gz PackageFileSize: 298.8 KiB