Package: GA4GHshiny Version: 1.30.0 Command: /Library/Frameworks/R.framework/Resources/bin/R CMD check --install=check:GA4GHshiny.install-out.txt --library=/Library/Frameworks/R.framework/Resources/library --no-vignettes --timings GA4GHshiny_1.30.0.tar.gz StartedAt: 2025-04-21 20:48:29 -0400 (Mon, 21 Apr 2025) EndedAt: 2025-04-21 20:53:47 -0400 (Mon, 21 Apr 2025) EllapsedTime: 317.3 seconds RetCode: 0 Status: OK CheckDir: GA4GHshiny.Rcheck Warnings: 0