Package: GA4GHshiny Version: 1.30.0 Command: rm -rf GA4GHshiny.buildbin-libdir && mkdir GA4GHshiny.buildbin-libdir && /Users/biocbuild/BBS/utils/build-universal.sh GA4GHshiny_1.30.0.tar.gz /Library/Frameworks/R.framework/Resources/bin/R GA4GHshiny.buildbin-libdir StartedAt: 2025-04-22 00:46:12 -0400 (Tue, 22 Apr 2025) EndedAt: 2025-04-22 00:47:09 -0400 (Tue, 22 Apr 2025) EllapsedTime: 56.8 seconds RetCode: 0 Status: OK PackageFile: GA4GHshiny_1.30.0.tgz PackageFileSize: 476.6 KiB