Package: GA4GHclient Version: 1.30.0 Command: /home/biocbuild/R/R/bin/R CMD check --install=check:GA4GHclient.install-out.txt --library=/home/biocbuild/R/R/site-library --no-vignettes --timings GA4GHclient_1.30.0.tar.gz StartedAt: 2025-01-31 06:22:45 -0000 (Fri, 31 Jan 2025) EndedAt: 2025-01-31 06:28:15 -0000 (Fri, 31 Jan 2025) EllapsedTime: 329.3 seconds RetCode: 0 Status: OK CheckDir: GA4GHclient.Rcheck Warnings: 0