Package: G4SNVHunter Version: 1.2.0 Command: /home/biocbuild/bbs-3.22-bioc/R/bin/R CMD INSTALL G4SNVHunter StartedAt: 2025-11-14 15:43:23 -0500 (Fri, 14 Nov 2025) EndedAt: 2025-11-14 15:44:10 -0500 (Fri, 14 Nov 2025) EllapsedTime: 47.9 seconds RetCode: 0 Status: OK