Package: G4SNVHunter Version: 1.2.0 Command: /Library/Frameworks/R.framework/Resources/bin/R CMD build --keep-empty-dirs --no-resave-data G4SNVHunter StartedAt: 2025-11-06 16:26:31 -0500 (Thu, 06 Nov 2025) EndedAt: 2025-11-06 16:26:52 -0500 (Thu, 06 Nov 2025) EllapsedTime: 21.2 seconds RetCode: 0 Status: OK PackageFile: G4SNVHunter_1.2.0.tar.gz PackageFileSize: 964.2 KiB