Package: G4SNVHunter Version: 1.2.0 Command: rm -rf G4SNVHunter.buildbin-libdir && mkdir G4SNVHunter.buildbin-libdir && /Users/biocbuild/BBS/utils/build-universal.sh G4SNVHunter_1.2.0.tar.gz /Library/Frameworks/R.framework/Resources/bin/R G4SNVHunter.buildbin-libdir StartedAt: 2025-11-06 23:05:24 -0500 (Thu, 06 Nov 2025) EndedAt: 2025-11-06 23:05:51 -0500 (Thu, 06 Nov 2025) EllapsedTime: 26.5 seconds RetCode: 0 Status: OK PackageFile: G4SNVHunter_1.2.0.tgz PackageFileSize: 1.07 MiB