Package: FlowSOM Version: 2.16.0 Command: /home/biocbuild/bbs-3.21-bioc/R/bin/R CMD INSTALL FlowSOM StartedAt: 2025-10-12 15:13:21 -0400 (Sun, 12 Oct 2025) EndedAt: 2025-10-12 15:13:35 -0400 (Sun, 12 Oct 2025) EllapsedTime: 13.5 seconds RetCode: 0 Status: OK