Package: FitHiC Version: 1.34.0 Command: /Library/Frameworks/R.framework/Resources/bin/R CMD INSTALL FitHiC StartedAt: 2025-04-21 15:03:09 -0400 (Mon, 21 Apr 2025) EndedAt: 2025-04-21 15:03:41 -0400 (Mon, 21 Apr 2025) EllapsedTime: 31.5 seconds RetCode: 0 Status: OK