Package: FitHiC Version: 1.34.0 Command: /Library/Frameworks/R.framework/Resources/bin/R CMD build --keep-empty-dirs --no-resave-data FitHiC StartedAt: 2025-04-21 16:48:44 -0400 (Mon, 21 Apr 2025) EndedAt: 2025-04-21 16:51:04 -0400 (Mon, 21 Apr 2025) EllapsedTime: 140.7 seconds RetCode: 0 Status: OK PackageFile: FitHiC_1.34.0.tar.gz PackageFileSize: 27.88 MiB