Package: FinfoMDS Version: 1.0.0 Command: /home/biocbuild/bbs-3.22-bioc/R/bin/R CMD INSTALL FinfoMDS StartedAt: 2025-11-05 15:42:59 -0500 (Wed, 05 Nov 2025) EndedAt: 2025-11-05 15:43:18 -0500 (Wed, 05 Nov 2025) EllapsedTime: 19.2 seconds RetCode: 0 Status: OK