Package: FinfoMDS Version: 1.0.0 Command: /home/biocbuild/bbs-3.22-bioc/R/bin/R CMD build --keep-empty-dirs --no-resave-data --md5 FinfoMDS StartedAt: 2025-11-05 17:47:28 -0500 (Wed, 05 Nov 2025) EndedAt: 2025-11-05 17:48:19 -0500 (Wed, 05 Nov 2025) EllapsedTime: 51.1 seconds RetCode: 0 Status: OK PackageFile: FinfoMDS_1.0.0.tar.gz PackageFileSize: 358.2 KiB