Package: FinfoMDS Version: 1.0.0 Command: /Library/Frameworks/R.framework/Resources/bin/R CMD INSTALL FinfoMDS StartedAt: 2025-11-10 15:10:03 -0500 (Mon, 10 Nov 2025) EndedAt: 2025-11-10 15:10:11 -0500 (Mon, 10 Nov 2025) EllapsedTime: 7.7 seconds RetCode: 0 Status: OK