Package: FindIT2 Version: 1.12.0 Command: /home/biocbuild/R/R/bin/R CMD build --keep-empty-dirs --no-resave-data FindIT2 StartedAt: 2025-01-30 23:36:35 -0000 (Thu, 30 Jan 2025) EndedAt: 2025-01-30 23:38:43 -0000 (Thu, 30 Jan 2025) EllapsedTime: 128.0 seconds RetCode: 0 Status: OK PackageFile: FindIT2_1.12.0.tar.gz PackageFileSize: 1.579 MiB