Package: FindIT2 Version: 1.12.0 Command: /Library/Frameworks/R.framework/Resources/bin/R CMD INSTALL FindIT2 StartedAt: 2025-01-02 17:18:38 -0500 (Thu, 02 Jan 2025) EndedAt: 2025-01-02 17:19:22 -0500 (Thu, 02 Jan 2025) EllapsedTime: 44.1 seconds RetCode: 0 Status: OK