Package: FeatSeekR Version: 1.8.0 Command: chmod a+r FeatSeekR -R && E:\biocbuild\bbs-3.21-bioc\R\bin\R.exe CMD build --keep-empty-dirs --no-resave-data FeatSeekR StartedAt: 2025-08-14 19:04:50 -0400 (Thu, 14 Aug 2025) EndedAt: 2025-08-14 19:06:16 -0400 (Thu, 14 Aug 2025) EllapsedTime: 86.2 seconds RetCode: 0 Status: OK PackageFile: FeatSeekR_1.8.0.tar.gz PackageFileSize: 321.4 KiB