Package: FeatSeekR Version: 1.8.0 Command: /home/biocbuild/bbs-3.21-bioc/R/bin/R CMD build --keep-empty-dirs --no-resave-data FeatSeekR StartedAt: 2025-10-01 17:34:00 -0400 (Wed, 01 Oct 2025) EndedAt: 2025-10-01 17:34:32 -0400 (Wed, 01 Oct 2025) EllapsedTime: 32.0 seconds RetCode: 0 Status: OK PackageFile: FeatSeekR_1.8.0.tar.gz PackageFileSize: 357.1 KiB