Package: FeatSeekR Version: 1.8.0 Command: /home/biocbuild/R/R/bin/R CMD build --keep-empty-dirs --no-resave-data FeatSeekR StartedAt: 2025-05-13 00:38:21 -0000 (Tue, 13 May 2025) EndedAt: 2025-05-13 00:39:04 -0000 (Tue, 13 May 2025) EllapsedTime: 43.0 seconds RetCode: 0 Status: OK PackageFile: FeatSeekR_1.8.0.tar.gz PackageFileSize: 416.8 KiB