Package: FamAgg Version: 1.36.0 Command: rm -rf FamAgg.buildbin-libdir && mkdir FamAgg.buildbin-libdir && /Users/biocbuild/BBS/utils/build-universal.sh FamAgg_1.36.0.tar.gz /Library/Frameworks/R.framework/Resources/bin/R FamAgg.buildbin-libdir StartedAt: 2025-04-22 00:45:16 -0400 (Tue, 22 Apr 2025) EndedAt: 2025-04-22 00:45:36 -0400 (Tue, 22 Apr 2025) EllapsedTime: 19.8 seconds RetCode: 0 Status: OK PackageFile: FamAgg_1.36.0.tgz PackageFileSize: 2.146 MiB