Package: FamAgg Version: 1.36.0 Command: /Library/Frameworks/R.framework/Resources/bin/R CMD INSTALL FamAgg StartedAt: 2025-04-21 15:06:18 -0400 (Mon, 21 Apr 2025) EndedAt: 2025-04-21 15:06:24 -0400 (Mon, 21 Apr 2025) EllapsedTime: 5.4 seconds RetCode: 0 Status: OK