Package: FamAgg Version: 1.36.0 Command: /Library/Frameworks/R.framework/Resources/bin/R CMD INSTALL FamAgg StartedAt: 2025-05-05 15:27:51 -0400 (Mon, 05 May 2025) EndedAt: 2025-05-05 15:28:05 -0400 (Mon, 05 May 2025) EllapsedTime: 13.7 seconds RetCode: 0 Status: OK