Package: FRGEpistasis Version: 1.44.0 Command: /Library/Frameworks/R.framework/Resources/bin/R CMD check --install=check:FRGEpistasis.install-out.txt --library=/Library/Frameworks/R.framework/Resources/library --no-vignettes --timings FRGEpistasis_1.44.0.tar.gz StartedAt: 2025-04-21 19:27:03 -0400 (Mon, 21 Apr 2025) EndedAt: 2025-04-21 19:27:47 -0400 (Mon, 21 Apr 2025) EllapsedTime: 44.6 seconds RetCode: 0 Status: OK CheckDir: FRGEpistasis.Rcheck Warnings: 0