Package: FRGEpistasis Version: 1.44.0 Command: rm -rf FRGEpistasis.buildbin-libdir && mkdir FRGEpistasis.buildbin-libdir && /Users/biocbuild/BBS/utils/build-universal.sh FRGEpistasis_1.44.0.tar.gz /Library/Frameworks/R.framework/Resources/bin/R FRGEpistasis.buildbin-libdir StartedAt: 2025-04-21 22:35:36 -0400 (Mon, 21 Apr 2025) EndedAt: 2025-04-21 22:35:39 -0400 (Mon, 21 Apr 2025) EllapsedTime: 3.1 seconds RetCode: 0 Status: OK PackageFile: FRGEpistasis_1.44.0.tgz PackageFileSize: 398.1 KiB