Package: FRASER Version: 2.2.0 Command: /home/biocbuild/R/R/bin/R CMD check --install=check:FRASER.install-out.txt --library=/home/biocbuild/R/R/site-library --no-vignettes --timings FRASER_2.2.0.tar.gz StartedAt: 2025-01-31 06:21:58 -0000 (Fri, 31 Jan 2025) EndedAt: 2025-01-31 06:42:24 -0000 (Fri, 31 Jan 2025) EllapsedTime: 1226.0 seconds RetCode: 0 Status: OK CheckDir: FRASER.Rcheck Warnings: 0