############################################################################## ############################################################################## ### ### Running command: ### ### /home/biocbuild/R/R/bin/R CMD check --install=check:FRASER.install-out.txt --library=/home/biocbuild/R/R/site-library --no-vignettes --timings FRASER_2.2.0.tar.gz ### ############################################################################## ############################################################################## * using log directory ‘/home/biocbuild/bbs-3.20-bioc/meat/FRASER.Rcheck’ * using R version 4.4.2 (2024-10-31) * using platform: aarch64-unknown-linux-gnu * R was compiled by aarch64-unknown-linux-gnu-gcc (GCC) 14.2.0 GNU Fortran (GCC) 12.3.1 (openEuler 12.3.1-36.oe2403) * running under: openEuler 24.03 (LTS) * using session charset: UTF-8 * using option ‘--no-vignettes’ * checking for file ‘FRASER/DESCRIPTION’ ... OK * checking extension type ... Package * this is package ‘FRASER’ version ‘2.2.0’ * package encoding: UTF-8 * checking package namespace information ... OK * checking package dependencies ... OK * checking if this is a source package ... OK * checking if there is a namespace ... OK * checking for hidden files and directories ... OK * checking for portable file names ... OK * checking for sufficient/correct file permissions ... OK * checking whether package ‘FRASER’ can be installed ... OK * used C++ compiler: ‘aarch64-unknown-linux-gnu-g++ (GCC) 14.2.0’ * checking installed package size ... NOTE installed size is 7.4Mb sub-directories of 1Mb or more: R 1.4Mb libs 5.0Mb * checking package directory ... OK * checking ‘build’ directory ... OK * checking DESCRIPTION meta-information ... NOTE License stub is invalid DCF. * checking top-level files ... OK * checking for left-over files ... OK * checking index information ... OK * checking package subdirectories ... OK * checking code files for non-ASCII characters ... OK * checking R files for syntax errors ... OK * checking whether the package can be loaded ... OK * checking whether the package can be loaded with stated dependencies ... OK * checking whether the package can be unloaded cleanly ... OK * checking whether the namespace can be loaded with stated dependencies ... OK * checking whether the namespace can be unloaded cleanly ... OK * checking loading without being on the library search path ... OK * checking whether startup messages can be suppressed ... OK * checking dependencies in R code ... NOTE Unexported objects imported by ':::' calls: 'S4Vectors:::selectSome' 'ggbio:::.buildFacetsFromArgs' See the note in ?`:::` about the use of this operator. * checking S3 generic/method consistency ... OK * checking replacement functions ... OK * checking foreign function calls ... OK * checking R code for possible problems ... NOTE annotateRangesWithTxDb: no visible binding for global variable ‘include’ calculatePadjValuesOnSubset : : no visible binding for global variable ‘gene_rowIdx’ plotVolcano.FRASER: no visible binding for global variable ‘aberrantLabel’ plotVolcano,FraserDataSet: no visible binding for global variable ‘aberrantLabel’ results,FraserDataSet: no visible binding for global variable ‘padjust’ results,FraserDataSet: no visible binding for global variable ‘pValueGene’ results,FraserDataSet: no visible binding for global variable ‘padjustGene’ Undefined global functions or variables: aberrantLabel gene_rowIdx include pValueGene padjust padjustGene * checking Rd files ... OK * checking Rd metadata ... OK * checking Rd cross-references ... OK * checking for missing documentation entries ... OK * checking for code/documentation mismatches ... OK * checking Rd \usage sections ... OK * checking Rd contents ... OK * checking for unstated dependencies in examples ... OK * checking line endings in C/C++/Fortran sources/headers ... OK * checking line endings in Makefiles ... OK * checking compilation flags in Makevars ... OK * checking for GNU extensions in Makefiles ... OK * checking for portable use of $(BLAS_LIBS) and $(LAPACK_LIBS) ... OK * checking use of PKG_*FLAGS in Makefiles ... OK * checking compiled code ... NOTE Note: information on .o files is not available * checking files in ‘vignettes’ ... OK * checking examples ... OK Examples with CPU (user + system) or elapsed time > 5s user system elapsed plotFunctions 161.144 0.862 162.402 potentialImpactAnnotations 54.427 0.184 54.729 FRASER 51.072 0.335 51.631 injectOutliers 36.060 0.168 36.280 results 30.390 0.124 30.578 annotateRanges 28.957 0.367 40.455 mergeExternalData 27.255 0.200 27.530 optimHyperParams 25.720 0.043 25.829 calculatePSIValues 22.848 0.889 23.794 fds-methods 22.538 0.188 22.775 filtering 21.696 0.128 21.880 subset 21.150 0.127 21.324 createTestFraserDataSet 20.767 0.159 20.979 getter_setter_functions 20.747 0.159 20.956 counts 20.394 0.443 20.882 makeSimulatedFraserDataSet 5.260 0.000 5.272 * checking for unstated dependencies in ‘tests’ ... OK * checking tests ... Running ‘testthat.R’ OK * checking for unstated dependencies in vignettes ... OK * checking package vignettes ... OK * checking running R code from vignettes ... SKIPPED * checking re-building of vignette outputs ... SKIPPED * checking PDF version of manual ... OK * DONE Status: 5 NOTEs See ‘/home/biocbuild/bbs-3.20-bioc/meat/FRASER.Rcheck/00check.log’ for details.