Package: FRASER Version: 2.2.0 Command: /home/biocbuild/R/R/bin/R CMD build --keep-empty-dirs --no-resave-data FRASER StartedAt: 2025-01-30 23:41:21 -0000 (Thu, 30 Jan 2025) EndedAt: 2025-01-30 23:47:21 -0000 (Thu, 30 Jan 2025) EllapsedTime: 359.1 seconds RetCode: 0 Status: OK PackageFile: FRASER_2.2.0.tar.gz PackageFileSize: 2.054 MiB