############################################################################## ############################################################################## ### ### Running command: ### ### /Library/Frameworks/R.framework/Resources/bin/R CMD check --install=check:FRASER.install-out.txt --library=/Library/Frameworks/R.framework/Resources/library --no-vignettes --timings FRASER_2.4.1.tar.gz ### ############################################################################## ############################################################################## * using log directory ‘/Users/biocbuild/bbs-3.21-bioc/meat/FRASER.Rcheck’ * using R version 4.5.0 RC (2025-04-04 r88126) * using platform: x86_64-apple-darwin20 * R was compiled by Apple clang version 14.0.0 (clang-1400.0.29.202) GNU Fortran (GCC) 14.2.0 * running under: macOS Monterey 12.7.6 * using session charset: UTF-8 * using option ‘--no-vignettes’ * checking for file ‘FRASER/DESCRIPTION’ ... OK * checking extension type ... Package * this is package ‘FRASER’ version ‘2.4.1’ * package encoding: UTF-8 * checking package namespace information ... OK * checking package dependencies ... INFO Imports includes 32 non-default packages. Importing from so many packages makes the package vulnerable to any of them becoming unavailable. Move as many as possible to Suggests and use conditionally. * checking if this is a source package ... OK * checking if there is a namespace ... OK * checking for hidden files and directories ... OK * checking for portable file names ... OK * checking for sufficient/correct file permissions ... OK * checking whether package ‘FRASER’ can be installed ... OK * used C++ compiler: ‘Apple clang version 14.0.0 (clang-1400.0.29.202)’ * used SDK: ‘MacOSX11.3.sdk’ * checking installed package size ... OK * checking package directory ... OK * checking ‘build’ directory ... OK * checking DESCRIPTION meta-information ... NOTE License stub is invalid DCF. * checking top-level files ... OK * checking for left-over files ... OK * checking index information ... OK * checking package subdirectories ... OK * checking code files for non-ASCII characters ... OK * checking R files for syntax errors ... OK * checking whether the package can be loaded ... OK * checking whether the package can be loaded with stated dependencies ... OK * checking whether the package can be unloaded cleanly ... OK * checking whether the namespace can be loaded with stated dependencies ... OK * checking whether the namespace can be unloaded cleanly ... OK * checking whether startup messages can be suppressed ... OK * checking dependencies in R code ... NOTE Unexported objects imported by ':::' calls: 'S4Vectors:::selectSome' 'ggbio:::.buildFacetsFromArgs' See the note in ?`:::` about the use of this operator. * checking S3 generic/method consistency ... OK * checking replacement functions ... OK * checking foreign function calls ... OK * checking R code for possible problems ... NOTE annotateRangesWithTxDb: no visible binding for global variable ‘include’ calculatePadjValuesOnSubset : : no visible binding for global variable ‘gene_rowIdx’ plotVolcano.FRASER: no visible binding for global variable ‘aberrantLabel’ plotVolcano,FraserDataSet: no visible binding for global variable ‘aberrantLabel’ results,FraserDataSet: no visible binding for global variable ‘padjust’ results,FraserDataSet: no visible binding for global variable ‘pValueGene’ results,FraserDataSet: no visible binding for global variable ‘padjustGene’ Undefined global functions or variables: aberrantLabel gene_rowIdx include pValueGene padjust padjustGene * checking Rd files ... OK * checking Rd metadata ... OK * checking Rd cross-references ... NOTE Found the following Rd file(s) with Rd \link{} targets missing package anchors: plotFunctions.Rd: aberrant Please provide package anchors for all Rd \link{} targets not in the package itself and the base packages. * checking for missing documentation entries ... OK * checking for code/documentation mismatches ... OK * checking Rd \usage sections ... OK * checking Rd contents ... OK * checking for unstated dependencies in examples ... OK * checking line endings in C/C++/Fortran sources/headers ... OK * checking line endings in Makefiles ... OK * checking compilation flags in Makevars ... OK * checking for GNU extensions in Makefiles ... OK * checking for portable use of $(BLAS_LIBS) and $(LAPACK_LIBS) ... OK * checking use of PKG_*FLAGS in Makefiles ... OK * checking compiled code ... NOTE Note: information on .o files is not available * checking sizes of PDF files under ‘inst/doc’ ... OK * checking files in ‘vignettes’ ... OK * checking examples ... OK Examples with CPU (user + system) or elapsed time > 5s user system elapsed plotFunctions 273.677 3.345 283.567 potentialImpactAnnotations 98.975 1.350 106.295 FRASER 84.527 1.001 87.187 injectOutliers 64.420 0.497 67.022 results 50.793 0.338 51.909 optimHyperParams 47.516 0.177 48.134 mergeExternalData 46.651 0.315 47.253 annotateRanges 44.743 0.649 49.573 calculatePSIValues 40.437 0.268 42.334 fds-methods 37.930 0.245 38.769 filtering 37.623 0.195 38.049 getter_setter_functions 36.173 0.465 38.353 subset 36.344 0.171 37.268 createTestFraserDataSet 34.815 0.224 35.548 counts 34.190 0.195 34.983 makeSimulatedFraserDataSet 9.476 0.049 9.700 * checking for unstated dependencies in ‘tests’ ... OK * checking tests ... Running ‘testthat.R’ OK * checking for unstated dependencies in vignettes ... OK * checking package vignettes ... OK * checking running R code from vignettes ... SKIPPED * checking re-building of vignette outputs ... SKIPPED * checking PDF version of manual ... OK * DONE Status: 5 NOTEs See ‘/Users/biocbuild/bbs-3.21-bioc/meat/FRASER.Rcheck/00check.log’ for details.