Package: FRASER Version: 2.4.3 Command: /Library/Frameworks/R.framework/Resources/bin/R CMD build --keep-empty-dirs --no-resave-data FRASER StartedAt: 2025-10-06 19:06:56 -0400 (Mon, 06 Oct 2025) EndedAt: 2025-10-06 19:16:58 -0400 (Mon, 06 Oct 2025) EllapsedTime: 601.7 seconds RetCode: 0 Status: OK PackageFile: FRASER_2.4.3.tar.gz PackageFileSize: 2.478 MiB