Package: FISHalyseR Version: 1.40.0 Command: /Library/Frameworks/R.framework/Resources/bin/R CMD build --keep-empty-dirs --no-resave-data FISHalyseR StartedAt: 2025-01-30 19:08:20 -0500 (Thu, 30 Jan 2025) EndedAt: 2025-01-30 19:09:12 -0500 (Thu, 30 Jan 2025) EllapsedTime: 52.3 seconds RetCode: 0 Status: OK PackageFile: FISHalyseR_1.40.0.tar.gz PackageFileSize: 781.5 KiB