Package: FISHalyseR Version: 1.42.0 Command: /home/biocbuild/R/R/bin/R CMD build --keep-empty-dirs --no-resave-data FISHalyseR StartedAt: 2025-05-13 00:39:22 -0000 (Tue, 13 May 2025) EndedAt: 2025-05-13 00:39:46 -0000 (Tue, 13 May 2025) EllapsedTime: 24.0 seconds RetCode: 0 Status: OK PackageFile: FISHalyseR_1.42.0.tar.gz PackageFileSize: 778.6 KiB