Package: FISHalyseR Version: 1.42.0 Command: /Library/Frameworks/R.framework/Resources/bin/R CMD check --install=check:FISHalyseR.install-out.txt --library=/Library/Frameworks/R.framework/Resources/library --no-vignettes --timings FISHalyseR_1.42.0.tar.gz StartedAt: 2025-05-16 19:44:09 -0400 (Fri, 16 May 2025) EndedAt: 2025-05-16 19:44:59 -0400 (Fri, 16 May 2025) EllapsedTime: 50.4 seconds RetCode: 0 Status: WARNINGS CheckDir: FISHalyseR.Rcheck Warnings: 2