Package: FEAST Version: 1.14.0 Command: /home/biocbuild/R/R/bin/R CMD build --keep-empty-dirs --no-resave-data FEAST StartedAt: 2025-01-30 23:35:21 -0000 (Thu, 30 Jan 2025) EndedAt: 2025-01-30 23:36:35 -0000 (Thu, 30 Jan 2025) EllapsedTime: 74.0 seconds RetCode: 0 Status: OK PackageFile: FEAST_1.14.0.tar.gz PackageFileSize: 3.464 MiB