Package: FEAST
Version: 1.14.0
Command: /Library/Frameworks/R.framework/Resources/bin/R CMD check --install=check:FEAST.install-out.txt --library=/Library/Frameworks/R.framework/Resources/library --no-vignettes --timings FEAST_1.14.0.tar.gz
StartedAt: 2024-11-09 02:14:16 -0500 (Sat, 09 Nov 2024)
EndedAt: 2024-11-09 02:19:07 -0500 (Sat, 09 Nov 2024)
EllapsedTime: 290.8 seconds
RetCode: 0
Status: OK
CheckDir: FEAST.Rcheck
Warnings: 0