Package: ExpressionAtlas Version: 1.34.0 Command: /home/biocbuild/R/R/bin/R CMD check --install=check:ExpressionAtlas.install-out.txt --library=/home/biocbuild/R/R/site-library --no-vignettes --timings ExpressionAtlas_1.34.0.tar.gz StartedAt: 2025-01-31 06:11:52 -0000 (Fri, 31 Jan 2025) EndedAt: 2025-01-31 06:16:02 -0000 (Fri, 31 Jan 2025) EllapsedTime: 250.3 seconds RetCode: 0 Status: OK CheckDir: ExpressionAtlas.Rcheck Warnings: 0