Package: ExpressionAtlas Version: 2.0.0 Command: /home/biocbuild/bbs-3.21-bioc/R/bin/R CMD INSTALL ExpressionAtlas StartedAt: 2025-10-15 15:48:27 -0400 (Wed, 15 Oct 2025) EndedAt: 2025-10-15 15:48:50 -0400 (Wed, 15 Oct 2025) EllapsedTime: 23.2 seconds RetCode: 0 Status: OK