Package: ExpressionAtlas Version: 2.0.0 Command: /Library/Frameworks/R.framework/Resources/bin/R CMD check --install=check:ExpressionAtlas.install-out.txt --library=/Library/Frameworks/R.framework/Resources/library --no-vignettes --timings ExpressionAtlas_2.0.0.tar.gz StartedAt: 2025-05-20 03:13:16 -0400 (Tue, 20 May 2025) EndedAt: 2025-05-20 03:19:29 -0400 (Tue, 20 May 2025) EllapsedTime: 372.7 seconds RetCode: 0 Status: OK CheckDir: ExpressionAtlas.Rcheck Warnings: 0