Package: ExploreModelMatrix Version: 1.20.0 Command: /home/biocbuild/bbs-3.21-bioc/R/bin/R CMD build --keep-empty-dirs --no-resave-data ExploreModelMatrix StartedAt: 2025-10-08 17:28:44 -0400 (Wed, 08 Oct 2025) EndedAt: 2025-10-08 17:29:02 -0400 (Wed, 08 Oct 2025) EllapsedTime: 18.0 seconds RetCode: 0 Status: OK PackageFile: ExploreModelMatrix_1.20.0.tar.gz PackageFileSize: 2.565 MiB