Package: ExperimentSubset Version: 1.18.1 Command: chmod a+r ExperimentSubset -R && E:\biocbuild\bbs-3.21-bioc\R\bin\R.exe CMD build --keep-empty-dirs --no-resave-data ExperimentSubset StartedAt: 2025-08-14 19:00:35 -0400 (Thu, 14 Aug 2025) EndedAt: 2025-08-14 19:01:39 -0400 (Thu, 14 Aug 2025) EllapsedTime: 63.3 seconds RetCode: 0 Status: OK PackageFile: ExperimentSubset_1.18.1.tar.gz PackageFileSize: 307.5 KiB