Package: ExperimentSubset Version: 1.18.1 Command: rm -rf ExperimentSubset.buildbin-libdir && mkdir ExperimentSubset.buildbin-libdir && E:\biocbuild\bbs-3.21-bioc\R\bin\R.exe CMD INSTALL --build --library=ExperimentSubset.buildbin-libdir ExperimentSubset_1.18.1.tar.gz StartedAt: 2025-08-15 09:16:35 -0400 (Fri, 15 Aug 2025) EndedAt: 2025-08-15 09:21:40 -0400 (Fri, 15 Aug 2025) EllapsedTime: 305.4 seconds RetCode: 0 Status: OK PackageFile: ExperimentSubset_1.18.1.zip PackageFileSize: 713.3 KiB