Package: ExperimentSubset Version: 1.16.0 Command: /Library/Frameworks/R.framework/Resources/bin/R CMD build --keep-empty-dirs --no-resave-data ExperimentSubset StartedAt: 2025-01-30 19:04:08 -0500 (Thu, 30 Jan 2025) EndedAt: 2025-01-30 19:06:00 -0500 (Thu, 30 Jan 2025) EllapsedTime: 112.5 seconds RetCode: 0 Status: OK PackageFile: ExperimentSubset_1.16.0.tar.gz PackageFileSize: 307.2 KiB